BEGIN:VCALENDAR
VERSION:2.0
PRODID:-//Tukios.com/
BEGIN:VEVENT
UID:3605ccc9-5432-4493-b28b-6121a0cef64b@www.doranfuneralhome.com
DTSTAMP:20260421T182839Z
DTSTART:20260423T190000Z
DTEND:20260423T210000Z
SUMMARY:Calling Hours
DESCRIPTION:
URL:https://www.doranfuneralhome.com/obituaries/dawn-lamitie-elias
LOCATION:Doran Funeral Home - Seneca Falls 4 East Bayard Street  Seneca 
	Falls NY 13148
GEO:42.9082783;-76.7960072
END:VEVENT
END:VCALENDAR