BEGIN:VCALENDAR
VERSION:2.0
PRODID:-//Tukios.com/
BEGIN:VEVENT
UID:42254579-0c0d-4d1e-8d97-c7c658c3f548@www.doranfuneralhome.com
DTSTAMP:20260421T183201Z
DTSTART:20260423T210000Z
DTEND:20260423T220000Z
SUMMARY:Funeral Service
DESCRIPTION:
URL:https://www.doranfuneralhome.com/obituaries/dawn-lamitie-elias
LOCATION: 4 East Bayard Street  Seneca Falls NY 13148
GEO:42.9082783;-76.7960072
END:VEVENT
END:VCALENDAR