BEGIN:VCALENDAR
VERSION:2.0
PRODID:-//Tukios.com/
BEGIN:VEVENT
UID:0458de9d-867d-4c95-a5d3-120dae873b46@www.doranfuneralhome.com
DTSTAMP:20260421T083700Z
DTSTART:20260421
SUMMARY:Interment
DESCRIPTION:
URL:https://www.doranfuneralhome.com/obituaries/evelyn-callan-rasmussen
LOCATION: 133 East Bayard Street  Seneca Falls NY 13148
GEO:42.912964;-76.783372
END:VEVENT
END:VCALENDAR