BEGIN:VCALENDAR
VERSION:2.0
PRODID:-//Tukios.com/
BEGIN:VEVENT
UID:49442f80-fe82-406b-b1b7-427d54bdb388@www.doranfuneralhome.com
DTSTAMP:20260424T171551Z
DTSTART:20260728T150000Z
DTEND:20260728T160000Z
SUMMARY:Graveside Service
DESCRIPTION:
URL:https://www.doranfuneralhome.com/obituaries/harland-wood
LOCATION: 133 East Bayard Street  Seneca Falls NY 13148
GEO:42.912964;-76.783372
END:VEVENT
END:VCALENDAR