BEGIN:VCALENDAR
VERSION:2.0
PRODID:-//Tukios.com/
BEGIN:VEVENT
UID:84f22a0a-dd84-4273-a130-4cad393512f2@www.doranfuneralhome.com
DTSTAMP:20260421T182511Z
DTSTART:20260425T170000Z
DTEND:20260425T180000Z
SUMMARY:Calling Hour
DESCRIPTION:
URL:https://www.doranfuneralhome.com/obituaries/stephen-steph-webster
LOCATION:Spirit of Grace Fellowship 10 Chapel Street  Waterloo NY 13165
GEO:42.9047582;-76.8454553
END:VEVENT
END:VCALENDAR