BEGIN:VCALENDAR
VERSION:2.0
PRODID:-//Tukios.com/
BEGIN:VEVENT
UID:8b990218-e319-4b89-8d0c-54e118135a1f@www.doranfuneralhome.com
DTSTAMP:20260421T182817Z
DTSTART:20260425T180000Z
DTEND:20260425T190000Z
SUMMARY:Funeral Service
DESCRIPTION:
URL:https://www.doranfuneralhome.com/obituaries/stephen-steph-webster
LOCATION: 10 Chapel Street  Waterloo NY 13165
GEO:42.9047582;-76.8454553
END:VEVENT
END:VCALENDAR